BEGIN:VCALENDAR
VERSION:2.0
PRODID:-//wp-events-plugin.com//7.2.3.1//EN
TZID:Europe/Berlin
X-WR-TIMEZONE:Europe/Berlin
BEGIN:VEVENT
UID:170@bremer-turnverband.de
DTSTART;TZID=Europe/Berlin:20260601T090000
DTEND;TZID=Europe/Berlin:20260605T180000
DTSTAMP:20260312T161013Z
URL:https://www.bremer-turnverband.de/events/bildungsurlaub-dtb-kursleiter
 in-yoga-stufen-1-2-kompakt
SUMMARY:Bildungsurlaub: DTB-Kursleiter*in Yoga\, Stufe 1 + 2 kompakt
DESCRIPTION:Yoga bietet eine Vielfalt an Möglichkeiten\, die Gesundheit un
 d das Lebensgefühl des Menschen zu aktivieren und zu verbessern. Es kommt
  der Suche der Menschen nach einem Ausgleich in einem von Hektik\, Stress 
 und Reizüberflutung geprägten Alltag entgegen.\n\nNeben den körperliche
 n Aspekten der Yogapraxis (wie Verbesserung von Muskelkraft\, Gleichgewich
 t und Flexibilität) wirkt Yoga auf das mentale und emotionale Erleben. Yo
 ga unterstützt die Fähigkeit\, sich körperlich und mental zu entspannen
 \, mit Stress besser klarzukommen\, in belastenden Situationen gelassener 
 zu reagieren und neue Energien zu mobilisieren.\n\nUmfang:\n50 LE\n\nVorau
 ssetzungen:\nInteressierte\n\nAbschluss:\nTeilnahmebescheinigung\n\n\n\nHi
 nweis:\nDie Anträge für den Bildungsurlaub in Bremen werden aktuell bear
 beitet. Bei Fragen diesbezüglich kontaktiere uns gern.\n\nLehrgang:    
              W4\nTermin:                     01. bis 05.
  Juni 2026\nZeit:                           Mo - Fr / jeweil
 s 09:00 bis 18:00 Uhr\nStundenumfang:   50 LE\nKosten:            
          Mitglieder/GymCard € 520\,- / Externe € 670\,-\nRabatt:
                        € 30\,- Frühbucherrabatt bis 10 Woch
 en vor Kursbeginn (23. März 2026)\nOrt:                      
         Haus Vorwärts\, Violenstr. 27\, 28195 Bremen\nMeldeschluss: 
        07. Mai 2026\nReferentin:               Fiona Regling
ATTACH;FMTTYPE=image/jpeg:https://www.bremer-turnverband.de/wp-content/upl
 oads/2023/10/two-young-beautiful-women-in-sportswear-going-to-do-sports-tr
 aining-gymnastics-yoga.jpg
CATEGORIES:Ausbildungen,Bildungsurlaub
LOCATION:Bremer Turnverband - Haus Vorwärts\, Violenstr. 27\, Bremen\, 281
 95\, Deutschland
GEO:53.075805;8.811718
X-APPLE-STRUCTURED-LOCATION;VALUE=URI;X-ADDRESS=Violenstr. 27\, Bremen\, 28
 195\, Deutschland;X-APPLE-RADIUS=100;X-TITLE=Bremer Turnverband - Haus Vor
 wärts:geo:53.075805,8.811718
END:VEVENT
BEGIN:VTIMEZONE
TZID:Europe/Berlin
X-LIC-LOCATION:Europe/Berlin
BEGIN:DAYLIGHT
DTSTART:20260329T030000
TZOFFSETFROM:+0100
TZOFFSETTO:+0200
TZNAME:CEST
END:DAYLIGHT
END:VTIMEZONE
END:VCALENDAR