BEGIN:VCALENDAR
VERSION:2.0
PRODID:-//wp-events-plugin.com//7.2.3.1//EN
TZID:Europe/Berlin
X-WR-TIMEZONE:Europe/Berlin
BEGIN:VEVENT
UID:199@bremer-turnverband.de
DTSTART;TZID=Europe/Berlin:20260905T100000
DTEND;TZID=Europe/Berlin:20260905T140000
DTSTAMP:20260421T103859Z
URL:https://www.bremer-turnverband.de/events/partneryoga-und-thai-yoga-mas
 sage
SUMMARY:Partneryoga und Thai Yoga Massage
DESCRIPTION:Sammle Inspirationen für Partneryoga und lerne die Thai Yoga K
 örperarbeit kennen! \nUm jemanden achtsam zu berühren\, ist es wichtig\
 , selber innerlich ausgeglichen und geerdet zu sein. Daher beginnen wir de
 n Workshop mit einer dynamischen Partneryogastunde\, bei der Balancen im V
 ordergrund stehen. Du kannst mit einer guten Freundin / einem guten Freund
  teilnehmen oder einfach mit jemandem\, der dir sympathisch ist. \nWähre
 nd der Yogapraxis habt ihr die Möglichkeit\, Nähe und Vertrauen zueinand
 er aufzubauen. Mit verschiedenen einfachen bis herausfordernden Asanas ver
 sucht ihr immer wieder\, euer gemeinsames Gleichgewicht zu finden und in B
 alance zu kommen und sorgt so für innere Ausgeglichenheit und Entspannung
 . \nDie besten Voraussetzungen\, um anschließend in die Grundlagen der Th
 ai Yoga Körperarbeit einzutauchen. Du darfst diese Kunst der Berührung u
 nter meiner Anleitung selbst geben und natürlich von deine/m Partner/in e
 mpfangen.\nAnschließend wirst du erfüllt von kraftvoller Ruhe nach Hause
  schweben \;-)\nBitte komm in langer\, bequemer Kleidung (auch Socken und 
 Pulli). Falls du bei der Yogapraxis ins Schwitzen kommst\, ist ein Wechsel
 shirt zu empfehlen.\nYogakenntnisse sind nicht unbedingt nötig\, aber von
  Vorteil.\n​Hinweis: Bitte meldet euch zu zweit an\, damit jede/r eine/n
  Partner/in hat. \nLehrgang:                F24\nTermin:      
               05.09.2026\nZeit:                       
    Sa 10:00 - 14:00 Uhr\nStundenumfang:  5 LE / ÜL-C / Trainer C Breit
 ensport\nKosten:                     Mitglieder € 40\,- / DT
 B-ID/GymCard € 42\,50 / Externe € 47\,50\nOrt:                
              Haus Vorwärts\, Violenstr. 27\, 28195 Bremen\nMeldesc
 hluss:        20.08.2026\nReferentin:               Christiane
  Kruse
ATTACH;FMTTYPE=image/jpeg:https://www.bremer-turnverband.de/wp-content/upl
 oads/2026/04/Partneryoga-Christiane.jpg
CATEGORIES:Fortbildungen
LOCATION:Bremer Turnverband - Haus Vorwärts\, Violenstr. 27\, Bremen\, 281
 95\, Deutschland
GEO:53.075805;8.811718
X-APPLE-STRUCTURED-LOCATION;VALUE=URI;X-ADDRESS=Violenstr. 27\, Bremen\, 28
 195\, Deutschland;X-APPLE-RADIUS=100;X-TITLE=Bremer Turnverband - Haus Vor
 wärts:geo:53.075805,8.811718
END:VEVENT
BEGIN:VTIMEZONE
TZID:Europe/Berlin
X-LIC-LOCATION:Europe/Berlin
BEGIN:DAYLIGHT
DTSTART:20260329T030000
TZOFFSETFROM:+0100
TZOFFSETTO:+0200
TZNAME:CEST
END:DAYLIGHT
END:VTIMEZONE
END:VCALENDAR